BEGIN:VCALENDAR
VERSION:2.0
PRODID:-//東京富士美術館（Tokyo Fuji Art Museum, FAM） - ECPv6.15.20//NONSGML v1.0//EN
CALSCALE:GREGORIAN
METHOD:PUBLISH
X-WR-CALNAME:東京富士美術館（Tokyo Fuji Art Museum, FAM）
X-ORIGINAL-URL:https://www.fujibi.or.jp
X-WR-CALDESC:東京富士美術館（Tokyo Fuji Art Museum, FAM） のイベント
REFRESH-INTERVAL;VALUE=DURATION:PT1H
X-Robots-Tag:noindex
X-PUBLISHED-TTL:PT1H
BEGIN:VTIMEZONE
TZID:Asia/Tokyo
BEGIN:STANDARD
TZOFFSETFROM:+0900
TZOFFSETTO:+0900
TZNAME:JST
DTSTART:20230101T000000
END:STANDARD
END:VTIMEZONE
BEGIN:VEVENT
DTSTART;VALUE=DATE:20240409
DTEND;VALUE=DATE:20240624
DTSTAMP:20260423T033012
CREATED:20240131T052415Z
LAST-MODIFIED:20240131T075551Z
UID:10000119-1712620800-1719187199@www.fujibi.or.jp
SUMMARY:【その他の展覧会】開館40周年記念展示 平和と文化の架け橋　富士美40年の軌跡
DESCRIPTION:
URL:https://www.fujibi.or.jp/the_events/%e3%80%90%e3%81%9d%e3%81%ae%e4%bb%96%e3%81%ae%e5%b1%95%e8%a6%a7%e4%bc%9a%e3%80%91%e9%96%8b%e9%a4%a840%e5%91%a8%e5%b9%b4%e8%a8%98%e5%bf%b5%e5%b1%95%e7%a4%ba-%e5%b9%b3%e5%92%8c%e3%81%a8%e6%96%87/
LOCATION:東京富士美術館\, 谷野町４９２−１\, 八王子市\, 東京都\, 192-0016\, 日本
CATEGORIES:その他の展覧会
END:VEVENT
BEGIN:VEVENT
DTSTART;VALUE=DATE:20240409
DTEND;VALUE=DATE:20240624
DTSTAMP:20260423T033012
CREATED:20240131T052521Z
LAST-MODIFIED:20240131T075550Z
UID:10000120-1712620800-1719187199@www.fujibi.or.jp
SUMMARY:【その他の展覧会】大使館の美術展 I  -文化交流随想-
DESCRIPTION:
URL:https://www.fujibi.or.jp/the_events/%e3%80%90%e3%81%9d%e3%81%ae%e4%bb%96%e3%81%ae%e5%b1%95%e8%a6%a7%e4%bc%9a%e3%80%91%e5%a4%a7%e4%bd%bf%e9%a4%a8%e3%81%ae%e7%be%8e%e8%a1%93%e5%b1%95-i-%e6%96%87%e5%8c%96%e4%ba%a4%e6%b5%81%e9%9a%8f-2/
LOCATION:東京富士美術館\, 谷野町４９２−１\, 八王子市\, 東京都\, 192-0016\, 日本
CATEGORIES:その他の展覧会
END:VEVENT
END:VCALENDAR