BEGIN:VCALENDAR
VERSION:2.0
PRODID:-//東京富士美術館（Tokyo Fuji Art Museum, FAM） - ECPv6.15.20//NONSGML v1.0//EN
CALSCALE:GREGORIAN
METHOD:PUBLISH
X-WR-CALNAME:東京富士美術館（Tokyo Fuji Art Museum, FAM）
X-ORIGINAL-URL:https://www.fujibi.or.jp
X-WR-CALDESC:東京富士美術館（Tokyo Fuji Art Museum, FAM） のイベント
REFRESH-INTERVAL;VALUE=DURATION:PT1H
X-Robots-Tag:noindex
X-PUBLISHED-TTL:PT1H
BEGIN:VTIMEZONE
TZID:Asia/Tokyo
BEGIN:STANDARD
TZOFFSETFROM:+0900
TZOFFSETTO:+0900
TZNAME:JST
DTSTART:20230101T000000
END:STANDARD
END:VTIMEZONE
BEGIN:VEVENT
DTSTART;VALUE=DATE:20240104
DTEND;VALUE=DATE:20240213
DTSTAMP:20260423T080223
CREATED:20231227T052957Z
LAST-MODIFIED:20240102T021358Z
UID:10000038-1704326400-1707782399@www.fujibi.or.jp
SUMMARY:【その他の展示】特集展示　シルクロードと日本
DESCRIPTION:
URL:https://www.fujibi.or.jp/the_events/%e7%89%b9%e9%9b%86%e5%b1%95%e7%a4%ba%e3%82%b7%e3%83%ab%e3%82%af%e3%83%ad%e3%83%bc%e3%83%89%e3%81%a8%e6%97%a5%e6%9c%ac-3/
LOCATION:東京富士美術館\, 谷野町４９２−１\, 八王子市\, 東京都\, 192-0016\, 日本
CATEGORIES:その他の展覧会
END:VEVENT
END:VCALENDAR